BEGIN:VCALENDAR
VERSION:2.0
PRODID:-//CiviCRM//NONSGML CiviEvent iCal//EN
X-WR-TIMEZONE:Europe/London
METHOD:PUBLISH
BEGIN:VTIMEZONE
TZID:Europe/London
BEGIN:DAYLIGHT
TZOFFSETFROM:+0100
TZOFFSETTO:+0100
TZNAME:BST
DTSTART:20260506T000000
END:DAYLIGHT
END:VTIMEZONE
BEGIN:VEVENT
UID:CiviCRM_EventID_1314_d2e9f4c091408e148488a2c27f8f6c82@data.agefriendlysalford.org.uk
SUMMARY:Pendleton Brew and Chat
CATEGORIES:Brew and Chat
CALSCALE:GREGORIAN
DTSTAMP;TZID=Europe/London:20260506T000000
DTSTART;TZID=Europe/London:20260506T000000
DTEND;TZID=Europe/London:20260506T133000
LOCATION:Pendleton Gateway Library\n 1 Broadwalk\n Salford\
 , M6 5FX\n United Kingdom\n 
URL:https://data.agefriendlysalford.org.uk/civicrm/event/info?reset=1&id=1314
END:VEVENT
END:VCALENDAR
