BEGIN:VCALENDAR
VERSION:2.0
PRODID:-//CiviCRM//NONSGML CiviEvent iCal//EN
X-WR-TIMEZONE:Europe/London
METHOD:PUBLISH
BEGIN:VTIMEZONE
TZID:Europe/London
BEGIN:DAYLIGHT
TZOFFSETFROM:+0100
TZOFFSETTO:+0100
TZNAME:BST
DTSTART:20260527T110000
END:DAYLIGHT
END:VTIMEZONE
BEGIN:VEVENT
UID:CiviCRM_EventID_1317_d2e9f4c091408e148488a2c27f8f6c82@data.agefriendlysalford.org.uk
SUMMARY:Pendleton Walk and Talk
CATEGORIES:Walk and Talk
CALSCALE:GREGORIAN
DTSTAMP;TZID=Europe/London:20260527T110000
DTSTART;TZID=Europe/London:20260527T110000
DTEND;TZID=Europe/London:20260527T120000
URL:https://data.agefriendlysalford.org.uk/civicrm/event/info?reset=1&id=1317
END:VEVENT
END:VCALENDAR
